BEGIN:VCALENDAR
VERSION:2.0
PRODID:icalendar-ruby
CALSCALE:GREGORIAN
METHOD:PUBLISH
BEGIN:VEVENT
DTSTAMP:20260423T045948Z
UID:8-282436@visitsandycreek.org
DTSTART:20261025T130000Z
DTEND:20261025T134500Z
CLASS:PUBLIC
CREATED:20260422T230959
DESCRIPTION:Classes for all ages.\nFrom Nursery\, to Kids\, Men's and Women
 's\, as well as an open circle discussion style class.  \n \nYou can fin
 d a group for all ages.  So come study and develop relationships along th
 e way.
LAST-MODIFIED:20260422T230959
LOCATION:
SUMMARY:Sunday School
URL;VALUE=URI:https://visitsandycreek.org/events/sunday-school--8/2026-10-2
 5
ATTACH;FILENAME=sunday-school.jpeg;FMTTYPE=image/jpeg:https://dq5pwpg1q8ru0
 .cloudfront.net/2025/05/21/22/47/21/1685fc29-da34-42f7-95a2-728174e47c81/s
 unday-school.jpeg
END:VEVENT
END:VCALENDAR
