BEGIN:VCALENDAR
VERSION:2.0
PRODID:icalendar-ruby
CALSCALE:GREGORIAN
METHOD:PUBLISH
BEGIN:VEVENT
DTSTAMP:20260423T071228Z
UID:9-282513@visitsandycreek.org
DTSTART:20261101T150000Z
DTEND:20261101T162000Z
CLASS:PUBLIC
CREATED:20260422T230959
DESCRIPTION:If you have ever wondered what our service might be like:\nSund
 ay worship has it all! Our choir typically gets the service started and th
 en we take a few minutes for announcements to keep you informed on what's 
 happening here at Sandy Creek. Announcements are followed by congregationa
 l singing with our praise band. Once our hearts and minds are focused on C
 hrist\, we continue that focus with a Bible-based sermon. At the close of 
 service\, one of our deacons will lead us in a dismissal prayer. \n \nPle
 ase contact us if you'd like more details. We would be happy to hear from 
 you!
LAST-MODIFIED:20260422T230959
LOCATION:
SUMMARY:Worship Service
URL;VALUE=URI:https://visitsandycreek.org/events/worship-service--9/2026-11
 -01
ATTACH;FILENAME=sunday-service.jpg;FMTTYPE=image/jpeg:https://dq5pwpg1q8ru0
 .cloudfront.net/2025/05/21/22/53/15/1017a2f8-f8ac-439e-b139-e92c52390b11/s
 unday-service.jpg
END:VEVENT
END:VCALENDAR
